Package: syntenet Version: 1.13.0 Command: /home/biocbuild/bbs-3.23-bioc/R/bin/R CMD INSTALL syntenet StartedAt: 2025-11-04 15:15:19 -0500 (Tue, 04 Nov 2025) EndedAt: 2025-11-04 15:16:00 -0500 (Tue, 04 Nov 2025) EllapsedTime: 41.1 seconds RetCode: 0 Status: OK