Package: syntenet Version: 1.13.0 Command: /home/biocbuild/bbs-3.23-bioc/R/bin/R CMD check --install=check:syntenet.install-out.txt --library=/home/biocbuild/bbs-3.23-bioc/R/site-library --timings syntenet_1.13.0.tar.gz StartedAt: 2025-11-07 04:25:21 -0500 (Fri, 07 Nov 2025) EndedAt: 2025-11-07 04:28:44 -0500 (Fri, 07 Nov 2025) EllapsedTime: 203.3 seconds RetCode: 0 Status: OK CheckDir: syntenet.Rcheck Warnings: 0