Package: syntenet Version: 1.13.0 Command: /home/biocbuild/bbs-3.23-bioc/R/bin/R CMD build --keep-empty-dirs --no-resave-data syntenet StartedAt: 2025-11-04 20:20:03 -0500 (Tue, 04 Nov 2025) EndedAt: 2025-11-04 20:21:23 -0500 (Tue, 04 Nov 2025) EllapsedTime: 80.1 seconds RetCode: 0 Status: OK PackageFile: syntenet_1.13.0.tar.gz PackageFileSize: 3.041 MiB