Package: synlet Version: 2.9.0 Command: /home/biocbuild/bbs-3.22-bioc/R/bin/R CMD check --install=check:synlet.install-out.txt --library=/home/biocbuild/bbs-3.22-bioc/R/site-library --timings synlet_2.9.0.tar.gz StartedAt: 2025-10-10 04:59:02 -0400 (Fri, 10 Oct 2025) EndedAt: 2025-10-10 05:00:02 -0400 (Fri, 10 Oct 2025) EllapsedTime: 60.1 seconds RetCode: 0 Status: OK CheckDir: synlet.Rcheck Warnings: 0