Package: synlet Version: 2.11.0 Command: /home/biocbuild/bbs-3.23-bioc/R/bin/R CMD check --install=check:synlet.install-out.txt --library=/home/biocbuild/bbs-3.23-bioc/R/site-library --timings synlet_2.11.0.tar.gz StartedAt: 2025-11-21 04:40:50 -0500 (Fri, 21 Nov 2025) EndedAt: 2025-11-21 04:41:52 -0500 (Fri, 21 Nov 2025) EllapsedTime: 62.1 seconds RetCode: 0 Status: OK CheckDir: synlet.Rcheck Warnings: 0