Package: synlet Version: 2.11.0 Command: /home/biocbuild/bbs-3.23-bioc/R/bin/R CMD build --keep-empty-dirs --no-resave-data synlet StartedAt: 2025-11-20 20:26:58 -0500 (Thu, 20 Nov 2025) EndedAt: 2025-11-20 20:27:25 -0500 (Thu, 20 Nov 2025) EllapsedTime: 27.0 seconds RetCode: 0 Status: OK PackageFile: synlet_2.11.0.tar.gz PackageFileSize: 1.468 MiB