Package: synergyfinder Version: 3.19.0 Command: /home/biocbuild/bbs-3.23-bioc/R/bin/R CMD INSTALL synergyfinder StartedAt: 2025-11-03 15:09:35 -0500 (Mon, 03 Nov 2025) EndedAt: 2025-11-03 15:09:46 -0500 (Mon, 03 Nov 2025) EllapsedTime: 10.5 seconds RetCode: 0 Status: OK