Package: synergyfinder Version: 3.19.0 Command: /Library/Frameworks/R.framework/Resources/bin/R CMD INSTALL synergyfinder StartedAt: 2025-11-27 15:15:26 -0500 (Thu, 27 Nov 2025) EndedAt: 2025-11-27 15:15:55 -0500 (Thu, 27 Nov 2025) EllapsedTime: 28.9 seconds RetCode: 0 Status: OK