Package: synergyfinder Version: 3.19.0 Command: /Library/Frameworks/R.framework/Resources/bin/R CMD INSTALL synergyfinder StartedAt: 2025-11-21 15:05:44 -0500 (Fri, 21 Nov 2025) EndedAt: 2025-11-21 15:05:48 -0500 (Fri, 21 Nov 2025) EllapsedTime: 4.0 seconds RetCode: 0 Status: OK