Package: synergyfinder Version: 3.19.0 Command: /Library/Frameworks/R.framework/Resources/bin/R CMD build --keep-empty-dirs --no-resave-data synergyfinder StartedAt: 2025-11-20 17:54:10 -0500 (Thu, 20 Nov 2025) EndedAt: 2025-11-20 17:54:53 -0500 (Thu, 20 Nov 2025) EllapsedTime: 43.5 seconds RetCode: 0 Status: OK PackageFile: synergyfinder_3.19.0.tar.gz PackageFileSize: 6.464 MiB