Package: synergyfinder Version: 3.19.0 Command: rm -rf synergyfinder.buildbin-libdir && mkdir synergyfinder.buildbin-libdir && /Users/biocbuild/BBS/utils/build-universal.sh synergyfinder_3.19.0.tar.gz /Library/Frameworks/R.framework/Resources/bin/R synergyfinder.buildbin-libdir StartedAt: 2025-11-20 23:54:59 -0500 (Thu, 20 Nov 2025) EndedAt: 2025-11-20 23:55:04 -0500 (Thu, 20 Nov 2025) EllapsedTime: 5.1 seconds RetCode: 0 Status: OK PackageFile: synergyfinder_3.19.0.tgz PackageFileSize: 3.814 MiB