Package: synapsis Version: 1.15.0 Command: /Library/Frameworks/R.framework/Resources/bin/R CMD INSTALL synapsis StartedAt: 2025-10-16 15:41:13 -0400 (Thu, 16 Oct 2025) EndedAt: 2025-10-16 15:41:22 -0400 (Thu, 16 Oct 2025) EllapsedTime: 9.8 seconds RetCode: 0 Status: OK