Package: synapsis Version: 1.15.0 Command: /Library/Frameworks/R.framework/Resources/bin/R CMD INSTALL synapsis StartedAt: 2025-09-30 15:07:15 -0400 (Tue, 30 Sep 2025) EndedAt: 2025-09-30 15:07:17 -0400 (Tue, 30 Sep 2025) EllapsedTime: 1.9 seconds RetCode: 0 Status: OK