Package: synapsis Version: 1.15.0 Command: /Library/Frameworks/R.framework/Resources/bin/R CMD build --keep-empty-dirs --no-resave-data synapsis StartedAt: 2025-09-30 17:58:06 -0400 (Tue, 30 Sep 2025) EndedAt: 2025-09-30 17:58:19 -0400 (Tue, 30 Sep 2025) EllapsedTime: 13.1 seconds RetCode: 0 Status: OK PackageFile: synapsis_1.15.0.tar.gz PackageFileSize: 3.548 MiB