Package: switchde Version: 1.35.0 Command: /Library/Frameworks/R.framework/Resources/bin/R CMD INSTALL switchde StartedAt: 2025-10-07 15:29:19 -0400 (Tue, 07 Oct 2025) EndedAt: 2025-10-07 15:29:55 -0400 (Tue, 07 Oct 2025) EllapsedTime: 35.7 seconds RetCode: 0 Status: OK