Package: switchde Version: 1.35.0 Command: /Library/Frameworks/R.framework/Resources/bin/R CMD build --keep-empty-dirs --no-resave-data switchde StartedAt: 2025-10-07 19:23:39 -0400 (Tue, 07 Oct 2025) EndedAt: 2025-10-07 19:24:31 -0400 (Tue, 07 Oct 2025) EllapsedTime: 52.7 seconds RetCode: 0 Status: OK PackageFile: switchde_1.35.0.tar.gz PackageFileSize: 1.031 MiB