Package: switchBox Version: 1.47.0 Command: /home/biocbuild/bbs-3.23-bioc/R/bin/R CMD INSTALL switchBox StartedAt: 2025-11-02 15:10:13 -0500 (Sun, 02 Nov 2025) EndedAt: 2025-11-02 15:10:25 -0500 (Sun, 02 Nov 2025) EllapsedTime: 12.4 seconds RetCode: 0 Status: OK