Package: switchBox Version: 1.47.0 Command: /home/biocbuild/bbs-3.23-bioc/R/bin/R CMD check --install=check:switchBox.install-out.txt --library=/home/biocbuild/bbs-3.23-bioc/R/site-library --timings switchBox_1.47.0.tar.gz StartedAt: 2025-11-03 04:02:57 -0500 (Mon, 03 Nov 2025) EndedAt: 2025-11-03 04:03:31 -0500 (Mon, 03 Nov 2025) EllapsedTime: 34.0 seconds RetCode: 0 Status: WARNINGS CheckDir: switchBox.Rcheck Warnings: 3