Package: switchBox Version: 1.47.0 Command: /home/biocbuild/bbs-3.23-bioc/R/bin/R CMD build --keep-empty-dirs --no-resave-data switchBox StartedAt: 2025-11-02 20:17:33 -0500 (Sun, 02 Nov 2025) EndedAt: 2025-11-02 20:17:43 -0500 (Sun, 02 Nov 2025) EllapsedTime: 10.0 seconds RetCode: 0 Status: OK PackageFile: switchBox_1.47.0.tar.gz PackageFileSize: 471.5 KiB