Package: switchBox Version: 1.45.0 Command: /Library/Frameworks/R.framework/Resources/bin/R CMD check --install=check:switchBox.install-out.txt --library=/Library/Frameworks/R.framework/Resources/library --no-vignettes --timings switchBox_1.45.0.tar.gz StartedAt: 2025-10-24 22:26:19 -0400 (Fri, 24 Oct 2025) EndedAt: 2025-10-24 22:26:38 -0400 (Fri, 24 Oct 2025) EllapsedTime: 18.2 seconds RetCode: 0 Status: WARNINGS CheckDir: switchBox.Rcheck Warnings: 3