Package: swfdr Version: 1.35.0 Command: /home/biocbuild/R/R/bin/R CMD INSTALL swfdr StartedAt: 2025-10-02 20:19:40 -0000 (Thu, 02 Oct 2025) EndedAt: 2025-10-02 20:20:19 -0000 (Thu, 02 Oct 2025) EllapsedTime: 39.3 seconds RetCode: 0 Status: OK