Package: swfdr Version: 1.35.0 Command: /home/biocbuild/R/R/bin/R CMD check --install=check:swfdr.install-out.txt --library=/home/biocbuild/R/R/site-library --no-vignettes --timings swfdr_1.35.0.tar.gz StartedAt: 2025-10-10 14:25:50 -0000 (Fri, 10 Oct 2025) EndedAt: 2025-10-10 14:26:35 -0000 (Fri, 10 Oct 2025) EllapsedTime: 45.1 seconds RetCode: 0 Status: WARNINGS CheckDir: swfdr.Rcheck Warnings: 1