Package: swfdr Version: 1.35.0 Command: /home/biocbuild/R/R/bin/R CMD build --keep-empty-dirs --no-resave-data swfdr StartedAt: 2025-10-03 03:42:01 -0000 (Fri, 03 Oct 2025) EndedAt: 2025-10-03 03:43:09 -0000 (Fri, 03 Oct 2025) EllapsedTime: 68.0 seconds RetCode: 0 Status: OK PackageFile: swfdr_1.35.0.tar.gz PackageFileSize: 1.187 MiB