Package: swfdr Version: 1.35.0 Command: /home/biocbuild/bbs-3.22-bioc/R/bin/R CMD INSTALL swfdr StartedAt: 2025-10-05 15:03:39 -0400 (Sun, 05 Oct 2025) EndedAt: 2025-10-05 15:04:03 -0400 (Sun, 05 Oct 2025) EllapsedTime: 24.1 seconds RetCode: 0 Status: OK