Package: swfdr Version: 1.35.0 Command: /home/biocbuild/bbs-3.22-bioc/R/bin/R CMD check --install=check:swfdr.install-out.txt --library=/home/biocbuild/bbs-3.22-bioc/R/site-library --timings swfdr_1.35.0.tar.gz StartedAt: 2025-10-04 04:56:35 -0400 (Sat, 04 Oct 2025) EndedAt: 2025-10-04 04:57:47 -0400 (Sat, 04 Oct 2025) EllapsedTime: 71.1 seconds RetCode: 0 Status: WARNINGS CheckDir: swfdr.Rcheck Warnings: 1