Package: swfdr Version: 1.35.0 Command: /home/biocbuild/bbs-3.22-bioc/R/bin/R CMD build --keep-empty-dirs --no-resave-data --md5 swfdr StartedAt: 2025-10-03 20:23:14 -0400 (Fri, 03 Oct 2025) EndedAt: 2025-10-03 20:24:03 -0400 (Fri, 03 Oct 2025) EllapsedTime: 49.1 seconds RetCode: 0 Status: OK PackageFile: swfdr_1.35.0.tar.gz PackageFileSize: 1.204 MiB