Package: swfdr Version: 1.37.0 Command: /home/biocbuild/bbs-3.23-bioc/R/bin/R CMD INSTALL swfdr StartedAt: 2025-11-20 15:03:29 -0500 (Thu, 20 Nov 2025) EndedAt: 2025-11-20 15:03:53 -0500 (Thu, 20 Nov 2025) EllapsedTime: 24.0 seconds RetCode: 0 Status: OK