Package: swfdr Version: 1.37.0 Command: /home/biocbuild/bbs-3.23-bioc/R/bin/R CMD check --install=check:swfdr.install-out.txt --library=/home/biocbuild/bbs-3.23-bioc/R/site-library --timings swfdr_1.37.0.tar.gz StartedAt: 2025-11-21 04:39:39 -0500 (Fri, 21 Nov 2025) EndedAt: 2025-11-21 04:40:50 -0500 (Fri, 21 Nov 2025) EllapsedTime: 71.1 seconds RetCode: 0 Status: WARNINGS CheckDir: swfdr.Rcheck Warnings: 1