Package: swfdr Version: 1.35.0 Command: /Library/Frameworks/R.framework/Resources/bin/R CMD INSTALL swfdr StartedAt: 2025-10-03 15:05:47 -0400 (Fri, 03 Oct 2025) EndedAt: 2025-10-03 15:06:20 -0400 (Fri, 03 Oct 2025) EllapsedTime: 33.2 seconds RetCode: 0 Status: OK