Package: swfdr Version: 1.35.0 Command: /Library/Frameworks/R.framework/Resources/bin/R CMD build --keep-empty-dirs --no-resave-data swfdr StartedAt: 2025-10-03 19:17:14 -0400 (Fri, 03 Oct 2025) EndedAt: 2025-10-03 19:18:24 -0400 (Fri, 03 Oct 2025) EllapsedTime: 69.7 seconds RetCode: 0 Status: OK PackageFile: swfdr_1.35.0.tar.gz PackageFileSize: 1.203 MiB