Package: swfdr Version: 1.35.0 Command: /Library/Frameworks/R.framework/Resources/bin/R CMD build --keep-empty-dirs --no-resave-data swfdr StartedAt: 2025-10-03 17:53:09 -0400 (Fri, 03 Oct 2025) EndedAt: 2025-10-03 17:53:29 -0400 (Fri, 03 Oct 2025) EllapsedTime: 20.2 seconds RetCode: 1 Status: ERROR PackageFile: None PackageFileSize: NA