Package: svaRetro Version: 1.15.1 Command: /home/biocbuild/bbs-3.22-bioc/R/bin/R CMD INSTALL svaRetro StartedAt: 2025-10-05 15:50:34 -0400 (Sun, 05 Oct 2025) EndedAt: 2025-10-05 15:51:13 -0400 (Sun, 05 Oct 2025) EllapsedTime: 38.7 seconds RetCode: 0 Status: OK