Package: svaNUMT Version: 1.17.0 Command: /home/biocbuild/bbs-3.23-bioc/R/bin/R CMD INSTALL svaNUMT StartedAt: 2025-11-04 15:49:24 -0500 (Tue, 04 Nov 2025) EndedAt: 2025-11-04 15:50:03 -0500 (Tue, 04 Nov 2025) EllapsedTime: 38.7 seconds RetCode: 0 Status: OK