Package: svaNUMT Version: 1.15.1 Command: /Library/Frameworks/R.framework/Resources/bin/R CMD INSTALL svaNUMT StartedAt: 2025-10-14 15:43:28 -0400 (Tue, 14 Oct 2025) EndedAt: 2025-10-14 15:44:22 -0400 (Tue, 14 Oct 2025) EllapsedTime: 54.4 seconds RetCode: 0 Status: OK