Package: svaNUMT Version: 1.15.1 Command: rm -rf svaNUMT.buildbin-libdir && mkdir svaNUMT.buildbin-libdir && /Users/biocbuild/BBS/utils/build-universal.sh svaNUMT_1.15.1.tar.gz /Library/Frameworks/R.framework/Resources/bin/R svaNUMT.buildbin-libdir StartedAt: 2025-10-14 03:11:58 -0400 (Tue, 14 Oct 2025) EndedAt: 2025-10-14 03:12:56 -0400 (Tue, 14 Oct 2025) EllapsedTime: 57.1 seconds RetCode: 0 Status: OK PackageFile: svaNUMT_1.15.1.tgz PackageFileSize: 754 KiB