Package: svaNUMT Version: 1.15.1 Command: /Library/Frameworks/R.framework/Resources/bin/R CMD INSTALL svaNUMT StartedAt: 2025-10-06 15:26:57 -0400 (Mon, 06 Oct 2025) EndedAt: 2025-10-06 15:27:13 -0400 (Mon, 06 Oct 2025) EllapsedTime: 16.4 seconds RetCode: 0 Status: OK