Package: svaNUMT Version: 1.15.1 Command: /Library/Frameworks/R.framework/Resources/bin/R CMD build --keep-empty-dirs --no-resave-data svaNUMT StartedAt: 2025-10-06 17:53:49 -0400 (Mon, 06 Oct 2025) EndedAt: 2025-10-06 17:54:20 -0400 (Mon, 06 Oct 2025) EllapsedTime: 30.3 seconds RetCode: 0 Status: OK PackageFile: svaNUMT_1.15.1.tar.gz PackageFileSize: 818.4 KiB