Package: svaNUMT Version: 1.17.0 Maintainer: Ruining Dong MaintainerEmail: lnyidrn at gmail.com git_url: https://git.bioconductor.org/packages/svaNUMT git_branch: devel git_last_commit: 798135e git_last_commit_date: 2025-10-29 11:10:38 -0400 (Wed, 29 Oct 2025)