Package: survcomp Version: 1.61.0 Command: /home/biocbuild/bbs-3.23-bioc/R/bin/R CMD check --install=check:survcomp.install-out.txt --library=/home/biocbuild/bbs-3.23-bioc/R/site-library --timings survcomp_1.61.0.tar.gz StartedAt: 2025-11-22 04:38:04 -0500 (Sat, 22 Nov 2025) EndedAt: 2025-11-22 04:39:04 -0500 (Sat, 22 Nov 2025) EllapsedTime: 60.1 seconds RetCode: 0 Status: OK CheckDir: survcomp.Rcheck Warnings: 0