Package: survClust Version: 1.5.0 Command: /home/biocbuild/bbs-3.23-bioc/R/bin/R CMD INSTALL survClust StartedAt: 2025-11-20 15:20:03 -0500 (Thu, 20 Nov 2025) EndedAt: 2025-11-20 15:20:30 -0500 (Thu, 20 Nov 2025) EllapsedTime: 26.8 seconds RetCode: 0 Status: OK