Package: survClust Version: 1.5.0 Command: /home/biocbuild/bbs-3.23-bioc/R/bin/R CMD build --keep-empty-dirs --no-resave-data survClust StartedAt: 2025-11-20 20:25:02 -0500 (Thu, 20 Nov 2025) EndedAt: 2025-11-20 20:26:57 -0500 (Thu, 20 Nov 2025) EllapsedTime: 115.1 seconds RetCode: 0 Status: OK PackageFile: survClust_1.5.0.tar.gz PackageFileSize: 809.2 KiB