Package: survClust Version: 1.3.0 Command: /Library/Frameworks/R.framework/Resources/bin/R CMD build --keep-empty-dirs --no-resave-data survClust StartedAt: 2025-10-24 19:00:27 -0400 (Fri, 24 Oct 2025) EndedAt: 2025-10-24 19:02:38 -0400 (Fri, 24 Oct 2025) EllapsedTime: 131.5 seconds RetCode: 0 Status: OK PackageFile: survClust_1.3.0.tar.gz PackageFileSize: 722.4 KiB