Package: survClust Version: 1.3.0 Command: /Library/Frameworks/R.framework/Resources/bin/R CMD INSTALL survClust StartedAt: 2025-10-05 15:13:24 -0400 (Sun, 05 Oct 2025) EndedAt: 2025-10-05 15:13:36 -0400 (Sun, 05 Oct 2025) EllapsedTime: 11.7 seconds RetCode: 0 Status: OK