Package: survClust Version: 1.3.0 Command: /Library/Frameworks/R.framework/Resources/bin/R CMD build --keep-empty-dirs --no-resave-data survClust StartedAt: 2025-10-05 17:56:50 -0400 (Sun, 05 Oct 2025) EndedAt: 2025-10-05 17:57:35 -0400 (Sun, 05 Oct 2025) EllapsedTime: 45.5 seconds RetCode: 0 Status: OK PackageFile: survClust_1.3.0.tar.gz PackageFileSize: 724.6 KiB