Package: survClust Version: 1.3.0 Command: rm -rf survClust.buildbin-libdir && mkdir survClust.buildbin-libdir && /Users/biocbuild/BBS/utils/build-universal.sh survClust_1.3.0.tar.gz /Library/Frameworks/R.framework/Resources/bin/R survClust.buildbin-libdir StartedAt: 2025-10-05 23:01:34 -0400 (Sun, 05 Oct 2025) EndedAt: 2025-10-05 23:01:46 -0400 (Sun, 05 Oct 2025) EllapsedTime: 12.2 seconds RetCode: 0 Status: OK PackageFile: survClust_1.3.0.tgz PackageFileSize: 768.2 KiB