Package: supersigs Version: 1.17.0 Command: /home/biocbuild/bbs-3.22-bioc/R/bin/R CMD INSTALL supersigs StartedAt: 2025-10-10 15:38:00 -0400 (Fri, 10 Oct 2025) EndedAt: 2025-10-10 15:38:31 -0400 (Fri, 10 Oct 2025) EllapsedTime: 31.3 seconds RetCode: 0 Status: OK