Package: supersigs Version: 1.17.0 Command: /home/biocbuild/bbs-3.22-bioc/R/bin/R CMD build --keep-empty-dirs --no-resave-data --md5 supersigs StartedAt: 2025-10-10 20:33:16 -0400 (Fri, 10 Oct 2025) EndedAt: 2025-10-10 20:34:18 -0400 (Fri, 10 Oct 2025) EllapsedTime: 62.0 seconds RetCode: 0 Status: OK PackageFile: supersigs_1.17.0.tar.gz PackageFileSize: 2.596 MiB