Package: subSeq Version: 1.39.0 Command: /home/biocbuild/R/R/bin/R CMD build --keep-empty-dirs --no-resave-data subSeq StartedAt: 2025-10-07 03:21:53 -0000 (Tue, 07 Oct 2025) EndedAt: 2025-10-07 03:22:50 -0000 (Tue, 07 Oct 2025) EllapsedTime: 57.0 seconds RetCode: 0 Status: OK PackageFile: subSeq_1.39.0.tar.gz PackageFileSize: 2.909 MiB