Package: subSeq Version: 1.39.0 Command: chmod a+r subSeq -R && F:\biocbuild\bbs-3.22-bioc\R\bin\R.exe CMD build --keep-empty-dirs --no-resave-data subSeq StartedAt: 2025-08-14 23:38:23 -0400 (Thu, 14 Aug 2025) EndedAt: 2025-08-14 23:39:17 -0400 (Thu, 14 Aug 2025) EllapsedTime: 54.4 seconds RetCode: 0 Status: OK PackageFile: subSeq_1.39.0.tar.gz PackageFileSize: 2.909 MiB