Package: subSeq Version: 1.41.0 Command: /home/biocbuild/bbs-3.23-bioc/R/bin/R CMD INSTALL subSeq StartedAt: 2025-11-05 15:20:43 -0500 (Wed, 05 Nov 2025) EndedAt: 2025-11-05 15:20:49 -0500 (Wed, 05 Nov 2025) EllapsedTime: 6.0 seconds RetCode: 0 Status: OK